BEGIN:VCALENDAR
VERSION:2.0
PRODID:-//AudioTheme 1.7.1
BEGIN:VEVENT
UID:https://carolwelsman.com/?post_type=audiotheme_gig&#038;p=909
URL:https://carolwelsman.com/shows/vitellos-e-spot-lounge-w-les-hooper-big-band/
DTSTART;TZID=GMT:20170509T030000
SUMMARY:Vitello's - E Spot Lounge w/ Les Hooper Big Band
DESCRIPTION:Special Guest Vocalist/Pianist with Les Hooper Big Band.
LOCATION:Vitello's - E Spot Lounge\, 4349 Tujunga Ave\, Studio City\, CA \, Studio City\, CA\, United States\, 91604
END:VEVENT
END:VCALENDAR