BEGIN:VCALENDAR
VERSION:2.0
PRODID:-//AudioTheme 1.7.1
BEGIN:VEVENT
UID:https://carolwelsman.com/?post_type=audiotheme_gig&#038;p=1151
URL:https://carolwelsman.com/shows/valspec/
DTSTART;VALUE=DATE:20171109
SUMMARY:VALSPEC
LOCATION:VALSPEC\, 169 rue Champlain\, Salaberry-de-Valleyfield\, QC\, J6T 1X6
END:VEVENT
END:VCALENDAR