BEGIN:VCALENDAR
VERSION:2.0
PRODID:-//AudioTheme 1.7.1
BEGIN:VEVENT
UID:https://carolwelsman.com/?post_type=audiotheme_gig&#038;p=225
URL:https://carolwelsman.com/shows/toronto-ontario-glenn-gould-studio/
DTSTART;TZID=GMT:20151030T000000
SUMMARY:Toronto ON - Glenn Gould Studio
END:VEVENT
END:VCALENDAR