BEGIN:VCALENDAR
VERSION:2.0
PRODID:-//AudioTheme 1.7.1
BEGIN:VEVENT
UID:https://carolwelsman.com/?post_type=audiotheme_gig&#038;p=911
URL:https://carolwelsman.com/shows/toronto-downtown-jazz-festival/
DTSTART;TZID=GMT:20170630T230000
SUMMARY:Toronto Downtown Jazz Festival
LOCATION:The Jazz Bistro\, 251 Victoria St\, Toronto\, ON\, Canada\, M5B 1T8
END:VEVENT
END:VCALENDAR