BEGIN:VCALENDAR
VERSION:2.0
PRODID:-//AudioTheme 1.7.1
BEGIN:VEVENT
UID:https://carolwelsman.com/?post_type=audiotheme_gig&#038;p=1533
URL:https://carolwelsman.com/shows/toronto-downtown-jazz-festival-2/
DTSTART;TZID=GMT:20180630T213000
SUMMARY:Toronto Downtown Jazz Festival
LOCATION:Home Smith Bar at The Old Mill Toronto\, 21 Old Mill Road\, Toronto\, ON\, Canada\, M8X 1G5
END:VEVENT
END:VCALENDAR