BEGIN:VCALENDAR
VERSION:2.0
PRODID:-//AudioTheme 1.7.1
BEGIN:VEVENT
UID:https://carolwelsman.com/?post_type=audiotheme_gig&#038;p=942
URL:https://carolwelsman.com/shows/theatre-outrement/
DTSTART;TZID=GMT:20171103T000000
SUMMARY:Théatre Outrement
LOCATION:Théatre Outremont\, 1248 avenue Bernard Oues\, Outremont\, QC\, Canada
END:VEVENT
END:VCALENDAR