BEGIN:VCALENDAR
VERSION:2.0
PRODID:-//AudioTheme 1.7.1
BEGIN:VEVENT
UID:https://carolwelsman.com/?post_type=audiotheme_gig&#038;p=1156
URL:https://carolwelsman.com/shows/theatre-hector-charland/
DTSTART;TZID=GMT:20171117T010000
SUMMARY:Théâtre Hector-Charland
LOCATION:Théâtre Hector-Charland\, 225 Boulevard de l'Ange-Gardien\, L'Assomption\, QC\, Canada\, J5W 4M6
END:VEVENT
END:VCALENDAR