BEGIN:VCALENDAR
VERSION:2.0
PRODID:-//AudioTheme 1.7.1
BEGIN:VEVENT
UID:https://carolwelsman.com/?post_type=audiotheme_gig&#038;p=58
URL:https://carolwelsman.com/shows/the-cabaret-at-the-columbia-club/
DTSTART;VALUE=DATE:20150814
SUMMARY:The Cabaret at the Columbia Club
END:VEVENT
END:VCALENDAR