BEGIN:VCALENDAR
VERSION:2.0
PRODID:-//AudioTheme 1.7.1
BEGIN:VEVENT
UID:https://carolwelsman.com/?post_type=audiotheme_gig&#038;p=1163
URL:https://carolwelsman.com/shows/st-judes/
DTSTART;VALUE=DATE:20180217
SUMMARY:Heart to Heart An Intimate Evening with Carol Welsman Jazz Vocalist/Pianist
LOCATION:St. Judes\, 160 William St.  \, Oakville\, ON\, Canada\, L6J 1C5
END:VEVENT
END:VCALENDAR