BEGIN:VCALENDAR
VERSION:2.0
PRODID:-//AudioTheme 1.7.1
BEGIN:VEVENT
UID:https://carolwelsman.com/?post_type=audiotheme_gig&#038;p=67
URL:https://carolwelsman.com/shows/south-carolina-jazz-festival/
DTSTART;VALUE=DATE:20151017
SUMMARY:South Carolina Jazz Festival
END:VEVENT
END:VCALENDAR