BEGIN:VCALENDAR
VERSION:2.0
PRODID:-//AudioTheme 1.7.1
BEGIN:VEVENT
UID:https://carolwelsman.com/?post_type=audiotheme_gig&#038;p=1155
URL:https://carolwelsman.com/shows/salle-pauline-julien/
DTSTART;TZID=GMT:20171112T003000
SUMMARY:Salle Pauline-Julien
DESCRIPTION:  
LOCATION:Salle Pauline-Julien\, 15615 Boul Gouin O\, Sainte-Geneviève\, QC\,  H9H 5K8
END:VEVENT
END:VCALENDAR