BEGIN:VCALENDAR
VERSION:2.0
PRODID:-//AudioTheme 1.7.1
BEGIN:VEVENT
UID:https://carolwelsman.com/?post_type=audiotheme_gig&#038;p=935
URL:https://carolwelsman.com/shows/red-hot-jazz-cool-blues-wednesdays/
DTSTART;TZID=GMT:20170823T223000
SUMMARY:Red Hot Jazz & Cool Blues Wednesdays
LOCATION:Royal Botanical Gardens- Burlington Red Hot Jazz & Cool Blues Wednesdays\, 680 Plains Road West\,  Burlington\, ON\, Canada
END:VEVENT
END:VCALENDAR