BEGIN:VCALENDAR
VERSION:2.0
PRODID:-//AudioTheme 1.7.1
BEGIN:VEVENT
UID:https://carolwelsman.com/?post_type=audiotheme_gig&#038;p=229
URL:https://carolwelsman.com/shows/palm-springs-ca-living-desert-concert-series/
DTSTART;TZID=GMT:20160131T000000
SUMMARY:Palm Springs CA - Living Desert Concert Series
END:VEVENT
END:VCALENDAR