BEGIN:VCALENDAR
VERSION:2.0
PRODID:-//AudioTheme 1.7.1
BEGIN:VEVENT
UID:https://carolwelsman.com/?post_type=audiotheme_gig&#038;p=257
URL:https://carolwelsman.com/shows/ottawa-on-national-arts-centre/
DTSTART;TZID=GMT:20160206T000000
SUMMARY:Ottawa ON - National Arts Centre
END:VEVENT
END:VCALENDAR