BEGIN:VCALENDAR
VERSION:2.0
PRODID:-//AudioTheme 1.7.1
BEGIN:VEVENT
UID:https://carolwelsman.com/?post_type=audiotheme_gig&#038;p=1480
URL:https://carolwelsman.com/shows/oscar-peterson-international-jazz-festival/
DTSTART;TZID=GMT:20180218T200000
SUMMARY:Oscar Peterson international Jazz Festival
LOCATION:Oscar Peterson international Jazz Festival\, 2059 Niagara Stone Road\, Niagara-on-the-Lake\, ON\, Canada\, L0S 1J0
END:VEVENT
END:VCALENDAR