BEGIN:VCALENDAR
VERSION:2.0
PRODID:-//AudioTheme 1.7.1
BEGIN:VEVENT
UID:https://carolwelsman.com/?post_type=audiotheme_gig&#038;p=51
URL:https://carolwelsman.com/shows/nugent-cluster-performance-hall/
DTSTART;VALUE=DATE:20150813
SUMMARY:Nugent-Cluster Performance Hall
END:VEVENT
END:VCALENDAR