BEGIN:VCALENDAR
VERSION:2.0
PRODID:-//AudioTheme 1.7.1
BEGIN:VEVENT
UID:https://carolwelsman.com/?post_type=audiotheme_gig&#038;p=932
URL:https://carolwelsman.com/shows/markham-jazz-festival/
DTSTART;TZID=GMT:20170819T000000
SUMMARY:Markham Jazz Festival
LOCATION:Markham Subaru Stage - Millennium Bandstand\, 4261 A-14 Hwy #7\, Suite 281\, Unionville\, ON\, Canada\, L3R 9W6
END:VEVENT
END:VCALENDAR