BEGIN:VCALENDAR
VERSION:2.0
PRODID:-//AudioTheme 1.7.1
BEGIN:VEVENT
UID:https://carolwelsman.com/?post_type=audiotheme_gig&#038;p=1638
URL:https://carolwelsman.com/shows/lewiston-jazz-festival/
DTSTART;TZID=GMT:20190824T214500
SUMMARY:Lewiston Jazz Festival
DESCRIPTION:Duo With special guest Nicki Parrott- bass/vocals  more info TBA
LOCATION:The Northwest Jazz Festival\, Center Street\, Lewiston\, New York
END:VEVENT
END:VCALENDAR