BEGIN:VCALENDAR
VERSION:2.0
PRODID:-//AudioTheme 1.7.1
BEGIN:VEVENT
UID:https://carolwelsman.com/?post_type=audiotheme_gig&#038;p=1327
URL:https://carolwelsman.com/shows/jazz-meets-latin/
DTSTART;TZID=GMT:20171015T030000
SUMMARY:Jazz Meets Latin
LOCATION:Annenberg Theater/Palm Springs Art Museum\, 101 N Museum Drive\, Palm Springs\, CA
END:VEVENT
END:VCALENDAR