BEGIN:VCALENDAR
VERSION:2.0
PRODID:-//AudioTheme 1.7.1
BEGIN:VEVENT
UID:https://carolwelsman.com/?post_type=audiotheme_gig&#038;p=941
URL:https://carolwelsman.com/shows/jazz-at-lacma/
DTSTART;VALUE=DATE:20170929
SUMMARY:Jazz at LACMA
LOCATION:LACMA (Los Angeles County Museum of Art)\, 5905 Wilshire Boulevard\, Los Angeles\, CA\, United States\, 90036
END:VEVENT
END:VCALENDAR