BEGIN:VCALENDAR
VERSION:2.0
PRODID:-//AudioTheme 1.7.1
BEGIN:VEVENT
UID:https://carolwelsman.com/?post_type=audiotheme_gig&#038;p=60
URL:https://carolwelsman.com/shows/indianapolis-in-master-class-the-cabaret-at-the-columbia-club/
DTSTART;VALUE=DATE:20150815
SUMMARY:Indianapolis IN - Master Class, The Cabaret at the Columbia Club
END:VEVENT
END:VCALENDAR