BEGIN:VCALENDAR
VERSION:2.0
PRODID:-//AudioTheme 1.7.1
BEGIN:VEVENT
UID:https://carolwelsman.com/?post_type=audiotheme_gig&#038;p=913
URL:https://carolwelsman.com/shows/gig-913/
DTSTART;TZID=GMT:20170701T020000
SUMMARY:The Jazz Bistro
LOCATION:The Jazz Bistro\, 251 Victoria St\, Toronto\, ON\, Canada\, M5B 1T8
END:VEVENT
END:VCALENDAR