BEGIN:VCALENDAR
VERSION:2.0
PRODID:-//AudioTheme 1.7.1
BEGIN:VEVENT
UID:https://carolwelsman.com/?post_type=audiotheme_gig&#038;p=1373
URL:https://carolwelsman.com/shows/gig-1373/
DTSTART;TZID=GMT:20170926T013000
SUMMARY:"For You" Release Party & Pat Harris Campaign Fundraiser
DESCRIPTION:SPECIAL EVENT! Celebrate the release of Carol's new album "For You" with a special fundraising event in support of Carol's husband's political campaign - Pat Harris for U.S. Senate 2018
LOCATION:Catalina Jazz Club\, 6725 West Sunset Blvd.\, Hollywood\, CA\, United States\, 90028
END:VEVENT
END:VCALENDAR