BEGIN:VCALENDAR
VERSION:2.0
PRODID:-//AudioTheme 1.7.1
BEGIN:VEVENT
UID:https://carolwelsman.com/?post_type=audiotheme_gig&#038;p=1648
URL:https://carolwelsman.com/shows/fogartyville-sarasota/
DTSTART;TZID=GMT:20190413T000000
SUMMARY:Fogartyville, Sarasota
LOCATION:Fogartyville Community Media & Arts Center\, 525 Kumquat Court\, Sarasota\, Florida\, 34236
END:VEVENT
END:VCALENDAR