BEGIN:VCALENDAR
VERSION:2.0
PRODID:-//AudioTheme 1.7.1
BEGIN:VEVENT
UID:https://carolwelsman.com/?post_type=audiotheme_gig&#038;p=944
URL:https://carolwelsman.com/shows/centre-culturel-de-beloeil/
DTSTART;TZID=GMT:20171118T010000
SUMMARY:Diffusions de la Coulisse
LOCATION:Diffusions de la Coulisse\, 600 Rue Richelieu \, Canada\, Beloeil\, QC\, Canada\, J3G 5E8
END:VEVENT
END:VCALENDAR