BEGIN:VCALENDAR
VERSION:2.0
PRODID:-//AudioTheme 1.7.1
BEGIN:VEVENT
UID:https://carolwelsman.com/?post_type=audiotheme_gig&#038;p=1400
URL:https://carolwelsman.com/shows/carol-and-vibrato/
DTSTART;TZID=GMT:20171125T023000
SUMMARY:Carol and Vibrato
LOCATION:Vibrato Grill and Jazz\, 2930 Beverly Glen Cir.\, Bel Air\, CA\,  90077
END:VEVENT
END:VCALENDAR