BEGIN:VCALENDAR
VERSION:2.0
PRODID:-//AudioTheme 1.7.1
BEGIN:VEVENT
UID:https://carolwelsman.com/?post_type=audiotheme_gig&#038;p=232
URL:https://carolwelsman.com/shows/calgary-ab-jazz-yyc/
DTSTART;TZID=GMT:20160212T000000
SUMMARY:Calgary AB - Jazz YYC
END:VEVENT
END:VCALENDAR