BEGIN:VCALENDAR
VERSION:2.0
PRODID:-//AudioTheme 1.7.1
BEGIN:VEVENT
UID:https://carolwelsman.com/?post_type=audiotheme_gig&#038;p=237
URL:https://carolwelsman.com/shows/burnaby-bc-shadbolt-center-for-the-arts/
DTSTART;TZID=GMT:20160408T000000
SUMMARY:Burnaby BC - Shadbolt Center For The Arts
END:VEVENT
END:VCALENDAR