BEGIN:VCALENDAR
VERSION:2.0
PRODID:-//AudioTheme 1.7.1
BEGIN:VEVENT
UID:https://carolwelsman.com/?post_type=audiotheme_gig&#038;p=940
URL:https://carolwelsman.com/shows/brantford-music-festival/
DTSTART;VALUE=DATE:20170917
SUMMARY:Brantford Music Festival
LOCATION:Brantford Jazz Festival\, 157 Elgin Street\, \, Brantford\, ON\, Canada
END:VEVENT
END:VCALENDAR