BEGIN:VCALENDAR
VERSION:2.0
PRODID:-//AudioTheme 1.7.1
BEGIN:VEVENT
UID:https://carolwelsman.com/?post_type=audiotheme_gig&#038;p=175
URL:https://carolwelsman.com/shows/birdland/
DTSTART;VALUE=DATE:20151105
SUMMARY:Birdland
END:VEVENT
END:VCALENDAR