BEGIN:VCALENDAR
VERSION:2.0
PRODID:-//AudioTheme 1.7.1
BEGIN:VEVENT
UID:https://carolwelsman.com/?post_type=audiotheme_gig&#038;p=1153
URL:https://carolwelsman.com/shows/azimut-diffusion/
DTSTART;VALUE=DATE:20171110
SUMMARY:Azimut Diffusion
LOCATION:Azimut Diffusion\, 3015\, place des Loisirs C.P. 368\,  Sorel\, QC\, Canada\, J3P 7K1
END:VEVENT
END:VCALENDAR