BEGIN:VCALENDAR
VERSION:2.0
PRODID:-//AudioTheme 1.7.1
BEGIN:VEVENT
UID:https://carolwelsman.com/?post_type=audiotheme_gig&#038;p=1161
URL:https://carolwelsman.com/shows/aeolian-theater/
DTSTART;VALUE=DATE:20180214
SUMMARY:Aeolian Theater
LOCATION:Aeolian Hall\, 795 Dundas St. E.\, London\, ON\, Canada\, N5W 2Z6
END:VEVENT
END:VCALENDAR