BEGIN:VCALENDAR
VERSION:2.0
PRODID:-//AudioTheme 1.7.1
BEGIN:VEVENT
UID:https://carolwelsman.com/?post_type=audiotheme_gig&#038;p=206
URL:https://carolwelsman.com/shows/206/
DTSTART;TZID=GMT:20150920T000000
SUMMARY:Hollywood CA - Catalina Jazz Club
END:VEVENT
END:VCALENDAR