BEGIN:VCALENDAR
VERSION:2.0
PRODID:-//AudioTheme 1.7.1
BEGIN:VEVENT
UID:https://carolwelsman.com/?post_type=audiotheme_gig&#038;p=1645
URL:https://carolwelsman.com/shows/2019-04-10/
DTSTART;TZID=GMT:20190410T234500
SUMMARY:Gold Coast Jazz Society
LOCATION:Amaturo Theater/Broward Center for the Performing Arts\, 201 SW 5th Ave\, Fort Lauderdale\, Florida\, USA\,  33312
END:VEVENT
END:VCALENDAR