BEGIN:VCALENDAR
VERSION:2.0
PRODID:-//AudioTheme 1.7.1
BEGIN:VEVENT
UID:https://carolwelsman.com/?post_type=audiotheme_gig&#038;p=173
URL:https://carolwelsman.com/shows/173/
DTSTART;VALUE=DATE:20151104
SUMMARY:Blues Alley
END:VEVENT
END:VCALENDAR